BEGIN:VCALENDAR
VERSION:2.0
PRODID:-//Pavilion Foods - ECPv6.15.20//NONSGML v1.0//EN
CALSCALE:GREGORIAN
METHOD:PUBLISH
X-ORIGINAL-URL:https://pavilionfoods.co.uk
X-WR-CALDESC:Events for Pavilion Foods
REFRESH-INTERVAL;VALUE=DURATION:PT1H
X-Robots-Tag:noindex
X-PUBLISHED-TTL:PT1H
BEGIN:VTIMEZONE
TZID:Europe/London
BEGIN:DAYLIGHT
TZOFFSETFROM:+0000
TZOFFSETTO:+0100
TZNAME:BST
DTSTART:20250330T010000
END:DAYLIGHT
BEGIN:STANDARD
TZOFFSETFROM:+0100
TZOFFSETTO:+0000
TZNAME:GMT
DTSTART:20251026T010000
END:STANDARD
BEGIN:DAYLIGHT
TZOFFSETFROM:+0000
TZOFFSETTO:+0100
TZNAME:BST
DTSTART:20260329T010000
END:DAYLIGHT
BEGIN:STANDARD
TZOFFSETFROM:+0100
TZOFFSETTO:+0000
TZNAME:GMT
DTSTART:20261025T010000
END:STANDARD
BEGIN:DAYLIGHT
TZOFFSETFROM:+0000
TZOFFSETTO:+0100
TZNAME:BST
DTSTART:20270328T010000
END:DAYLIGHT
BEGIN:STANDARD
TZOFFSETFROM:+0100
TZOFFSETTO:+0000
TZNAME:GMT
DTSTART:20271031T010000
END:STANDARD
END:VTIMEZONE
BEGIN:VEVENT
DTSTART;TZID=Europe/London:20260503T160000
DTEND;TZID=Europe/London:20260503T183000
DTSTAMP:20260416T101428
CREATED:20240924T191426Z
LAST-MODIFIED:20260402T113447Z
UID:10000170-1777824000-1777833000@pavilionfoods.co.uk
SUMMARY:A Taste of Spain - 3rd May - Sold Out
DESCRIPTION:Experience the vibrant flavours of Spain in this hands-on Taste of Spain cookery class at Pavilion Cookery School\, led by the talented Chef Jon. \nYou’ll learn to create a delicious spread of classic dishes\, from golden Spanish tortilla and crispy patatas bravas with rich romesco sauce\, to an authentic paella\, hearty chorizo stew\, and perfectly blistered padrón peppers. Whether you’re a passionate home cook or just looking for a fun culinary experience\, this class promises bold flavours\, expert guidance\, and a true taste of Spanish cuisine. \nBuy tickets
URL:https://pavilionfoods.co.uk/event/spain-3rd-may-event/
LOCATION:Pavilion\, 25 Market Place\, Henley-on-Thames\, Oxfordshire\, RG9 2AA\, United Kingdom
CATEGORIES:Cooking Class
ATTACH;FMTTYPE=image/jpeg:https://pavilionfoods.co.uk/wp-content/uploads/2022/10/Pavilion-March-MEMO-47.jpg
END:VEVENT
END:VCALENDAR