BEGIN:VCALENDAR
VERSION:2.0
PRODID:-//Pavilion Foods - ECPv6.15.20//NONSGML v1.0//EN
CALSCALE:GREGORIAN
METHOD:PUBLISH
X-ORIGINAL-URL:https://pavilionfoods.co.uk
X-WR-CALDESC:Events for Pavilion Foods
REFRESH-INTERVAL;VALUE=DURATION:PT1H
X-Robots-Tag:noindex
X-PUBLISHED-TTL:PT1H
BEGIN:VTIMEZONE
TZID:Europe/London
BEGIN:DAYLIGHT
TZOFFSETFROM:+0000
TZOFFSETTO:+0100
TZNAME:BST
DTSTART:20250330T010000
END:DAYLIGHT
BEGIN:STANDARD
TZOFFSETFROM:+0100
TZOFFSETTO:+0000
TZNAME:GMT
DTSTART:20251026T010000
END:STANDARD
BEGIN:DAYLIGHT
TZOFFSETFROM:+0000
TZOFFSETTO:+0100
TZNAME:BST
DTSTART:20260329T010000
END:DAYLIGHT
BEGIN:STANDARD
TZOFFSETFROM:+0100
TZOFFSETTO:+0000
TZNAME:GMT
DTSTART:20261025T010000
END:STANDARD
BEGIN:DAYLIGHT
TZOFFSETFROM:+0000
TZOFFSETTO:+0100
TZNAME:BST
DTSTART:20270328T010000
END:DAYLIGHT
BEGIN:STANDARD
TZOFFSETFROM:+0100
TZOFFSETTO:+0000
TZNAME:GMT
DTSTART:20271031T010000
END:STANDARD
END:VTIMEZONE
BEGIN:VEVENT
DTSTART;TZID=Europe/London:20260429T180000
DTEND;TZID=Europe/London:20260429T203000
DTSTAMP:20260415T054927
CREATED:20240924T190029Z
LAST-MODIFIED:20260402T114233Z
UID:10000168-1777485600-1777494600@pavilionfoods.co.uk
SUMMARY:Flavours of the Middle East - 29th April
DESCRIPTION:Throughout the middle east and Mediterranean\, flavours are punchy and bold using fantastic ingredients such as cumin\, sumac\, pomegranate\, copious fresh herbs\, sesame\, bulgur\, lemon\, olives and yoghurt. \nLearn how to cook a middle eastern mezze feast preparing aromatic spice rubs for kebabs\, meat and fish\, creating vibrant herby salads and bright colourful dips for vegetables\, nibbles and flat breads. \nWith guidance and demos from chef Jon this is a hands-on class culminating in a sharing table of hot and cold dishes to taste along the way and take home. \nYou’ll learn how to make muhmmara – a spicy Syrian red pepper and walnut dip\, Maneesh sesame zaatar bread\, Fattoush salad and perfect tabbouleh as well as spatchcock poussin with a punchy spice rub and some hot and cold finger food to complete the spread. \nThis class includes meat\, fish and dairy. Allergens are present\, please ask for details. \nBuy tickets
URL:https://pavilionfoods.co.uk/event/flavours-middle-east-29th-april-event/
LOCATION:Pavilion\, 25 Market Place\, Henley-on-Thames\, Oxfordshire\, RG9 2AA\, United Kingdom
CATEGORIES:Cooking Class
ATTACH;FMTTYPE=image/jpeg:https://pavilionfoods.co.uk/wp-content/uploads/2024/06/Keralan-Reduced-Size-HZOC71.tmp_.jpg
END:VEVENT
END:VCALENDAR